
BEGIN:VCALENDAR
VERSION:2.0
PRODID:-//Baha&#039;is - ECPv6.2.9//NONSGML v1.0//EN
CALSCALE:GREGORIAN
METHOD:PUBLISH
X-ORIGINAL-URL:https://bahaimiami.org
X-WR-CALDESC:Events for Baha&#039;is
REFRESH-INTERVAL;VALUE=DURATION:PT1H
X-Robots-Tag:noindex
X-PUBLISHED-TTL:PT1H
BEGIN:VTIMEZONE
TZID:UTC
BEGIN:STANDARD
TZOFFSETFROM:+0000
TZOFFSETTO:+0000
TZNAME:UTC
DTSTART:20230101T000000
END:STANDARD
END:VTIMEZONE
BEGIN:VEVENT
DTSTART;VALUE=DATE:20230321
DTEND;VALUE=DATE:20230322
DTSTAMP:20260424T042053
CREATED:20230426T003158Z
LAST-MODIFIED:20240116T041239Z
UID:10384-1679356800-1679443199@bahaimiami.org
SUMMARY:Feast of Bahá (Splendour)
DESCRIPTION:
URL:https://bahaimiami.org/event/feast-of-baha-splendour/
CATEGORIES:Feast
END:VEVENT
END:VCALENDAR