
BEGIN:VCALENDAR
VERSION:2.0
PRODID:-//Baha&#039;is - ECPv6.2.9//NONSGML v1.0//EN
CALSCALE:GREGORIAN
METHOD:PUBLISH
X-ORIGINAL-URL:https://bahaimiami.org
X-WR-CALDESC:Events for Baha&#039;is
REFRESH-INTERVAL;VALUE=DURATION:PT1H
X-Robots-Tag:noindex
X-PUBLISHED-TTL:PT1H
BEGIN:VTIMEZONE
TZID:America/Halifax
BEGIN:DAYLIGHT
TZOFFSETFROM:-0400
TZOFFSETTO:-0300
TZNAME:ADT
DTSTART:20230312T060000
END:DAYLIGHT
BEGIN:STANDARD
TZOFFSETFROM:-0300
TZOFFSETTO:-0400
TZNAME:AST
DTSTART:20231105T050000
END:STANDARD
END:VTIMEZONE
BEGIN:VEVENT
DTSTART;TZID=America/Halifax:20230801T193000
DTEND;TZID=America/Halifax:20230801T220000
DTSTAMP:20260423T200732
CREATED:20230629T041413Z
LAST-MODIFIED:20240116T041234Z
UID:10429-1690918200-1690927200@bahaimiami.org
SUMMARY:Feast of Kamal/ Perfection
DESCRIPTION:
URL:https://bahaimiami.org/event/feast-of-kamal-perfection/
LOCATION:Panorama Tower\, 1100 Brickell Bay Drive\, 18th floor club room\, Miami\, FL\, 33131\, United States
CATEGORIES:Feast
END:VEVENT
END:VCALENDAR